BEGIN:VCALENDAR
VERSION:2.0
METHOD:PUBLISH
X-WR-CALNAME;VALUE=TEXT:
PRODID:-//Drupal iCal API//EN
BEGIN:VEVENT
2025-08-28 01:00:00 AEST
2025-08-28 02:15:00 AEST
DTSTART:20250827T150000Z
DTEND:20250827T161500Z
SUMMARY:Why institutions endure? Norms, leadership and the difficulty of reform
UID:47a06e3a-2a2e-4959-a064-2dbe94729206
URL:https://politicsir.cass.anu.edu.au/events/why-institutions-endure-norms-leadership-and-difficulty-reform
END:VEVENT
END:VCALENDAR
